

BEGIN:VCALENDAR
PRODID:-//snudd.se// event //EN
VERSION:2.0
lika<br>
    
BEGIN:VEVENT

DTSTART:20200705T140000Z
DTEND:20200705T154500Z
SUMMARY;ENCODING=QUOTED-PRINTABLE:Vittsj=F6 GIK - V=E4xj=F6 DFF
URL:http://eventellus.com/event.asp?intActivityId=329268&intActivityTimeId=656021&from=icalone
LOCATION;ENCODING=QUOTED-PRINTABLE:Sweden->H=E4ssleholm->Vittsj=F6 IP A-plan
DESCRIPTION:http://eventellus.com/event.asp?intActivityId=329268&intActivityTimeId=656021&from=icalone
UID:656021_activitytime@eventellus.com
TRANSP:OPAQUE
END:VEVENT


END:VCALENDAR
