

BEGIN:VCALENDAR
PRODID:-//snudd.se// event //EN
VERSION:2.0
lika<br>
    
BEGIN:VEVENT

DTSTART:20200711T140000Z
DTEND:20200711T154500Z
SUMMARY;ENCODING=QUOTED-PRINTABLE:IK Uppsala Fotboll - Djurg=E5rdens IF FF
URL:http://eventellus.com/event.asp?intActivityId=329273&intActivityTimeId=656026&from=icalone
LOCATION;ENCODING=QUOTED-PRINTABLE:Sweden->Uppsala->NCC Studenternas
DESCRIPTION:http://eventellus.com/event.asp?intActivityId=329273&intActivityTimeId=656026&from=icalone
UID:656026_activitytime@eventellus.com
TRANSP:OPAQUE
END:VEVENT


END:VCALENDAR
