

BEGIN:VCALENDAR
PRODID:-//snudd.se// event //EN
VERSION:2.0
lika<br>
    
BEGIN:VEVENT

DTSTART:20201003T130000Z
DTEND:20201003T144500Z
SUMMARY;ENCODING=QUOTED-PRINTABLE:KIF =D6rebro DFF - V=E4xj=F6 DFF
URL:http://eventellus.com/event.asp?intActivityId=329301&intActivityTimeId=656054&from=icalone
LOCATION;ENCODING=QUOTED-PRINTABLE:Sweden->=D6rebro->Behrn Arena
DESCRIPTION:http://eventellus.com/event.asp?intActivityId=329301&intActivityTimeId=656054&from=icalone
UID:656054_activitytime@eventellus.com
TRANSP:OPAQUE
END:VEVENT


END:VCALENDAR
