

BEGIN:VCALENDAR
PRODID:-//snudd.se// event //EN
VERSION:2.0
lika<br>
    
BEGIN:VEVENT

DTSTART:20201004T140000Z
DTEND:20201004T154500Z
SUMMARY;ENCODING=QUOTED-PRINTABLE:Pite=E5 IF DFF - IK Uppsala Fotboll
URL:http://eventellus.com/event.asp?intActivityId=329304&intActivityTimeId=656057&from=icalone
LOCATION;ENCODING=QUOTED-PRINTABLE:Sweden->Pite=E5->LF Arena
DESCRIPTION:http://eventellus.com/event.asp?intActivityId=329304&intActivityTimeId=656057&from=icalone
UID:656057_activitytime@eventellus.com
TRANSP:OPAQUE
END:VEVENT


END:VCALENDAR
