

BEGIN:VCALENDAR
PRODID:-//snudd.se// event //EN
VERSION:2.0
lika<br>
    
BEGIN:VEVENT

DTSTART:20201010T150000Z
DTEND:20201010T164500Z
SUMMARY;ENCODING=QUOTED-PRINTABLE:Kristianstads DFF - Eskilstuna United DFF
URL:http://eventellus.com/event.asp?intActivityId=329306&intActivityTimeId=656059&from=icalone
LOCATION;ENCODING=QUOTED-PRINTABLE:Sweden->Kristianstad->Kristianstads Fotbollsarena
DESCRIPTION:http://eventellus.com/event.asp?intActivityId=329306&intActivityTimeId=656059&from=icalone
UID:656059_activitytime@eventellus.com
TRANSP:OPAQUE
END:VEVENT


END:VCALENDAR
