

BEGIN:VCALENDAR
PRODID:-//snudd.se// event //EN
VERSION:2.0
lika<br>
    
BEGIN:VEVENT

DTSTART:20201011T140000Z
DTEND:20201011T154500Z
SUMMARY;ENCODING=QUOTED-PRINTABLE:Kopparbergs/G=F6teborg FC - Link=F6pings FC
URL:http://eventellus.com/event.asp?intActivityId=329309&intActivityTimeId=656062&from=icalone
LOCATION;ENCODING=QUOTED-PRINTABLE:Sweden->G=F6teborg->Valhalla 1 Konstgr=E4s
DESCRIPTION:http://eventellus.com/event.asp?intActivityId=329309&intActivityTimeId=656062&from=icalone
UID:656062_activitytime@eventellus.com
TRANSP:OPAQUE
END:VEVENT


END:VCALENDAR
