

BEGIN:VCALENDAR
PRODID:-//snudd.se// event //EN
VERSION:2.0
lika<br>
    
BEGIN:VEVENT

DTSTART:20200405T133000Z
DTEND:20200405T151500Z
SUMMARY;ENCODING=QUOTED-PRINTABLE:Hammarby - Kalmar FF
URL:http://eventellus.com/event.asp?intActivityId=329330&intActivityTimeId=656083&from=icalone
LOCATION;ENCODING=QUOTED-PRINTABLE:Sweden->Stockholm->Tele2 Arena
DESCRIPTION:http://eventellus.com/event.asp?intActivityId=329330&intActivityTimeId=656083&from=icalone
UID:656083_activitytime@eventellus.com
TRANSP:OPAQUE
END:VEVENT


END:VCALENDAR
