

BEGIN:VCALENDAR
PRODID:-//snudd.se// event //EN
VERSION:2.0
lika<br>
    
BEGIN:VEVENT

DTSTART:20200417T180000Z
DTEND:20200417T194500Z
SUMMARY;ENCODING=QUOTED-PRINTABLE:Djurg=E5rden - Malm=F6 FF
URL:http://eventellus.com/event.asp?intActivityId=329345&intActivityTimeId=656098&from=icalone
LOCATION;ENCODING=QUOTED-PRINTABLE:Sweden->Stockholm->Tele2 Arena
DESCRIPTION:http://eventellus.com/event.asp?intActivityId=329345&intActivityTimeId=656098&from=icalone
UID:656098_activitytime@eventellus.com
TRANSP:OPAQUE
END:VEVENT


END:VCALENDAR
