

BEGIN:VCALENDAR
PRODID:-//snudd.se// event //EN
VERSION:2.0
lika<br>
    
BEGIN:VEVENT

DTSTART:20200426T163000Z
DTEND:20200426T181500Z
SUMMARY;ENCODING=QUOTED-PRINTABLE:IFK Norrk=F6ping FK - IF Elfsborg
URL:http://eventellus.com/event.asp?intActivityId=329365&intActivityTimeId=656118&from=icalone
LOCATION;ENCODING=QUOTED-PRINTABLE:Sweden->Norrk=F6ping->=D6stg=F6taporten
DESCRIPTION:http://eventellus.com/event.asp?intActivityId=329365&intActivityTimeId=656118&from=icalone
UID:656118_activitytime@eventellus.com
TRANSP:OPAQUE
END:VEVENT


END:VCALENDAR
