

BEGIN:VCALENDAR
PRODID:-//snudd.se// event //EN
VERSION:2.0
lika<br>
    
BEGIN:VEVENT

DTSTART:20200502T140000Z
DTEND:20200502T154500Z
SUMMARY;ENCODING=QUOTED-PRINTABLE:Falkenbergs FF - IF Elfsborg
URL:http://eventellus.com/event.asp?intActivityId=329369&intActivityTimeId=656122&from=icalone
LOCATION;ENCODING=QUOTED-PRINTABLE:Sweden->Falkenberg->Falcon Alkoholfri Arena
DESCRIPTION:http://eventellus.com/event.asp?intActivityId=329369&intActivityTimeId=656122&from=icalone
UID:656122_activitytime@eventellus.com
TRANSP:OPAQUE
END:VEVENT


END:VCALENDAR
