

BEGIN:VCALENDAR
PRODID:-//snudd.se// event //EN
VERSION:2.0
lika<br>
    
BEGIN:VEVENT

DTSTART:20200502T140000Z
DTEND:20200502T154500Z
SUMMARY;ENCODING=QUOTED-PRINTABLE:AIK - Kalmar FF
URL:http://eventellus.com/event.asp?intActivityId=329370&intActivityTimeId=656123&from=icalone
LOCATION;ENCODING=QUOTED-PRINTABLE:Sweden->Friends Arena->Nationalarenan
DESCRIPTION:http://eventellus.com/event.asp?intActivityId=329370&intActivityTimeId=656123&from=icalone
UID:656123_activitytime@eventellus.com
TRANSP:OPAQUE
END:VEVENT


END:VCALENDAR
