

BEGIN:VCALENDAR
PRODID:-//snudd.se// event //EN
VERSION:2.0
lika<br>
    
BEGIN:VEVENT

DTSTART:20200510T133000Z
DTEND:20200510T151500Z
SUMMARY;ENCODING=QUOTED-PRINTABLE:Helsingborgs IF - Djurg=E5rden
URL:http://eventellus.com/event.asp?intActivityId=329379&intActivityTimeId=656132&from=icalone
LOCATION;ENCODING=QUOTED-PRINTABLE:Sweden->Helsingborg->Olympiaf=E4ltet
DESCRIPTION:http://eventellus.com/event.asp?intActivityId=329379&intActivityTimeId=656132&from=icalone
UID:656132_activitytime@eventellus.com
TRANSP:OPAQUE
END:VEVENT


END:VCALENDAR
