

BEGIN:VCALENDAR
PRODID:-//snudd.se// event //EN
VERSION:2.0
lika<br>
    
BEGIN:VEVENT

DTSTART:20200511T180000Z
DTEND:20200511T194500Z
SUMMARY;ENCODING=QUOTED-PRINTABLE:IF Elfsborg - Varbergs BoIS FC
URL:http://eventellus.com/event.asp?intActivityId=329382&intActivityTimeId=656135&from=icalone
LOCATION;ENCODING=QUOTED-PRINTABLE:Sweden->Bor=E5s->Bor=E5s Arena
DESCRIPTION:http://eventellus.com/event.asp?intActivityId=329382&intActivityTimeId=656135&from=icalone
UID:656135_activitytime@eventellus.com
TRANSP:OPAQUE
END:VEVENT


END:VCALENDAR
