

BEGIN:VCALENDAR
PRODID:-//snudd.se// event //EN
VERSION:2.0
lika<br>
    
BEGIN:VEVENT

DTSTART:20200511T180000Z
DTEND:20200511T194500Z
SUMMARY;ENCODING=QUOTED-PRINTABLE:AIK - IFK G=F6teborg
URL:http://eventellus.com/event.asp?intActivityId=329383&intActivityTimeId=656136&from=icalone
LOCATION;ENCODING=QUOTED-PRINTABLE:Sweden->Friends Arena->Nationalarenan
DESCRIPTION:http://eventellus.com/event.asp?intActivityId=329383&intActivityTimeId=656136&from=icalone
UID:656136_activitytime@eventellus.com
TRANSP:OPAQUE
END:VEVENT


END:VCALENDAR
