

BEGIN:VCALENDAR
PRODID:-//snudd.se// event //EN
VERSION:2.0
lika<br>
    
BEGIN:VEVENT

DTSTART:20200705T000000Z
DTEND:20200705T014500Z
SUMMARY;ENCODING=QUOTED-PRINTABLE:IF Elfsborg - Mj=E4llby AIF
URL:http://eventellus.com/event.asp?intActivityId=329418&intActivityTimeId=656171&from=icalone
LOCATION;ENCODING=QUOTED-PRINTABLE:Sweden->Bor=E5s->Bor=E5s Arena
DESCRIPTION:http://eventellus.com/event.asp?intActivityId=329418&intActivityTimeId=656171&from=icalone
UID:656171_activitytime@eventellus.com
TRANSP:OPAQUE
END:VEVENT


END:VCALENDAR
