

BEGIN:VCALENDAR
PRODID:-//snudd.se// event //EN
VERSION:2.0
lika<br>
    
BEGIN:VEVENT

DTSTART:20200726T000000Z
DTEND:20200726T014500Z
SUMMARY;ENCODING=QUOTED-PRINTABLE:Helsingborgs IF - IK Sirius FK
URL:http://eventellus.com/event.asp?intActivityId=329446&intActivityTimeId=656199&from=icalone
LOCATION;ENCODING=QUOTED-PRINTABLE:Sweden->Helsingborg->Olympiaf=E4ltet
DESCRIPTION:http://eventellus.com/event.asp?intActivityId=329446&intActivityTimeId=656199&from=icalone
UID:656199_activitytime@eventellus.com
TRANSP:OPAQUE
END:VEVENT


END:VCALENDAR
