

BEGIN:VCALENDAR
PRODID:-//snudd.se// event //EN
VERSION:2.0
lika<br>
    
BEGIN:VEVENT

DTSTART:20200830T000000Z
DTEND:20200830T014500Z
SUMMARY;ENCODING=QUOTED-PRINTABLE:Malm=F6 FF - IFK G=F6teborg
URL:http://eventellus.com/event.asp?intActivityId=329483&intActivityTimeId=656236&from=icalone
LOCATION;ENCODING=QUOTED-PRINTABLE:Sweden->Malm=F6->Eleda Stadion
DESCRIPTION:http://eventellus.com/event.asp?intActivityId=329483&intActivityTimeId=656236&from=icalone
UID:656236_activitytime@eventellus.com
TRANSP:OPAQUE
END:VEVENT


END:VCALENDAR
