

BEGIN:VCALENDAR
PRODID:-//snudd.se// event //EN
VERSION:2.0
lika<br>
    
BEGIN:VEVENT

DTSTART:20200913T000000Z
DTEND:20200913T014500Z
SUMMARY;ENCODING=QUOTED-PRINTABLE:Hammarby - Varbergs BoIS FC
URL:http://eventellus.com/event.asp?intActivityId=329487&intActivityTimeId=656240&from=icalone
LOCATION;ENCODING=QUOTED-PRINTABLE:Sweden->Stockholm->Tele2 Arena
DESCRIPTION:http://eventellus.com/event.asp?intActivityId=329487&intActivityTimeId=656240&from=icalone
UID:656240_activitytime@eventellus.com
TRANSP:OPAQUE
END:VEVENT


END:VCALENDAR
