

BEGIN:VCALENDAR
PRODID:-//snudd.se// event //EN
VERSION:2.0
lika<br>
    
BEGIN:VEVENT

DTSTART:20200913T000000Z
DTEND:20200913T014500Z
SUMMARY;ENCODING=QUOTED-PRINTABLE:Kalmar FF - IF Elfsborg
URL:http://eventellus.com/event.asp?intActivityId=329490&intActivityTimeId=656243&from=icalone
LOCATION;ENCODING=QUOTED-PRINTABLE:Sweden->Kalmar->Guldf=E5geln Arena
DESCRIPTION:http://eventellus.com/event.asp?intActivityId=329490&intActivityTimeId=656243&from=icalone
UID:656243_activitytime@eventellus.com
TRANSP:OPAQUE
END:VEVENT


END:VCALENDAR
