

BEGIN:VCALENDAR
PRODID:-//snudd.se// event //EN
VERSION:2.0
lika<br>
    
BEGIN:VEVENT

DTSTART:20201028T000000Z
DTEND:20201028T014500Z
SUMMARY;ENCODING=QUOTED-PRINTABLE:AIK - =D6rebro
URL:http://eventellus.com/event.asp?intActivityId=329544&intActivityTimeId=656297&from=icalone
LOCATION;ENCODING=QUOTED-PRINTABLE:Sweden->Friends Arena->Nationalarenan
DESCRIPTION:http://eventellus.com/event.asp?intActivityId=329544&intActivityTimeId=656297&from=icalone
UID:656297_activitytime@eventellus.com
TRANSP:OPAQUE
END:VEVENT


END:VCALENDAR
