

BEGIN:VCALENDAR
PRODID:-//snudd.se// event //EN
VERSION:2.0
lika<br>
    
BEGIN:VEVENT

DTSTART:20201108T000000Z
DTEND:20201108T014500Z
SUMMARY;ENCODING=QUOTED-PRINTABLE:AIK - IF Elfsborg
URL:http://eventellus.com/event.asp?intActivityId=329561&intActivityTimeId=656314&from=icalone
LOCATION;ENCODING=QUOTED-PRINTABLE:Sweden->Friends Arena->Nationalarenan
DESCRIPTION:http://eventellus.com/event.asp?intActivityId=329561&intActivityTimeId=656314&from=icalone
UID:656314_activitytime@eventellus.com
TRANSP:OPAQUE
END:VEVENT


END:VCALENDAR
