

BEGIN:VCALENDAR
PRODID:-//snudd.se// event //EN
VERSION:2.0
lika<br>
    
BEGIN:VEVENT

DTSTART:20200404T140000Z
DTEND:20200404T154500Z
SUMMARY;ENCODING=QUOTED-PRINTABLE:Akropolis IF - Degerfors IF
URL:http://eventellus.com/event.asp?intActivityId=329566&intActivityTimeId=656319&from=icalone
LOCATION;ENCODING=QUOTED-PRINTABLE:Sweden->Ulricehamn->Grimsta IP 1
DESCRIPTION:http://eventellus.com/event.asp?intActivityId=329566&intActivityTimeId=656319&from=icalone
UID:656319_activitytime@eventellus.com
TRANSP:OPAQUE
END:VEVENT


END:VCALENDAR
