

BEGIN:VCALENDAR
PRODID:-//snudd.se// event //EN
VERSION:2.0
lika<br>
    
BEGIN:VEVENT

DTSTART:20200404T140000Z
DTEND:20200404T154500Z
SUMMARY;ENCODING=QUOTED-PRINTABLE:Athletic Eskilstuna - J=F6nk=F6pings S=F6dra IF
URL:http://eventellus.com/event.asp?intActivityId=329567&intActivityTimeId=656320&from=icalone
LOCATION;ENCODING=QUOTED-PRINTABLE:Sweden->Eskilstuna->Tunavallen
DESCRIPTION:http://eventellus.com/event.asp?intActivityId=329567&intActivityTimeId=656320&from=icalone
UID:656320_activitytime@eventellus.com
TRANSP:OPAQUE
END:VEVENT


END:VCALENDAR
