

BEGIN:VCALENDAR
PRODID:-//snudd.se// event //EN
VERSION:2.0
lika<br>
    
BEGIN:VEVENT

DTSTART:20200405T133000Z
DTEND:20200405T151500Z
SUMMARY;ENCODING=QUOTED-PRINTABLE:Trelleborgs FF - =D6rgryte IS Fotboll
URL:http://eventellus.com/event.asp?intActivityId=329570&intActivityTimeId=656323&from=icalone
LOCATION;ENCODING=QUOTED-PRINTABLE:Sweden->Trelleborg A-plan->V=E5ngavallen
DESCRIPTION:http://eventellus.com/event.asp?intActivityId=329570&intActivityTimeId=656323&from=icalone
UID:656323_activitytime@eventellus.com
TRANSP:OPAQUE
END:VEVENT


END:VCALENDAR
