

BEGIN:VCALENDAR
PRODID:-//snudd.se// event //EN
VERSION:2.0
lika<br>
    
BEGIN:VEVENT

DTSTART:20200605T180000Z
DTEND:20200605T194500Z
SUMMARY;ENCODING=QUOTED-PRINTABLE:GAIS - =D6sters IF
URL:http://eventellus.com/event.asp?intActivityId=329645&intActivityTimeId=656398&from=icalone
LOCATION;ENCODING=QUOTED-PRINTABLE:Sweden->G=F6teborg->Gamla Ullevi
DESCRIPTION:http://eventellus.com/event.asp?intActivityId=329645&intActivityTimeId=656398&from=icalone
UID:656398_activitytime@eventellus.com
TRANSP:OPAQUE
END:VEVENT


END:VCALENDAR
