

BEGIN:VCALENDAR
PRODID:-//snudd.se// event //EN
VERSION:2.0
lika<br>
    
BEGIN:VEVENT

DTSTART:20200606T163000Z
DTEND:20200606T181500Z
SUMMARY;ENCODING=QUOTED-PRINTABLE:Dalkurd - =D6rgryte IS Fotboll
URL:http://eventellus.com/event.asp?intActivityId=329649&intActivityTimeId=656402&from=icalone
LOCATION;ENCODING=QUOTED-PRINTABLE:Sweden->Uppsala->NCC Studenternas
DESCRIPTION:http://eventellus.com/event.asp?intActivityId=329649&intActivityTimeId=656402&from=icalone
UID:656402_activitytime@eventellus.com
TRANSP:OPAQUE
END:VEVENT


END:VCALENDAR
