

BEGIN:VCALENDAR
PRODID:-//snudd.se// event //EN
VERSION:2.0
lika<br>
    
BEGIN:VEVENT

DTSTART:20200622T180000Z
DTEND:20200622T194500Z
SUMMARY;ENCODING=QUOTED-PRINTABLE:GIF Sundsvall - GAIS
URL:http://eventellus.com/event.asp?intActivityId=329666&intActivityTimeId=656419&from=icalone
LOCATION;ENCODING=QUOTED-PRINTABLE:Sweden->Sundsvall->NP3 Arena
DESCRIPTION:http://eventellus.com/event.asp?intActivityId=329666&intActivityTimeId=656419&from=icalone
UID:656419_activitytime@eventellus.com
TRANSP:OPAQUE
END:VEVENT


END:VCALENDAR
