

BEGIN:VCALENDAR
PRODID:-//snudd.se// event //EN
VERSION:2.0
lika<br>
    
BEGIN:VEVENT

DTSTART:20200717T180000Z
DTEND:20200717T194500Z
SUMMARY;ENCODING=QUOTED-PRINTABLE:Ume=E5 FC - =D6sters IF
URL:http://eventellus.com/event.asp?intActivityId=329676&intActivityTimeId=656429&from=icalone
LOCATION;ENCODING=QUOTED-PRINTABLE:Sweden->Ume=E5->Ume=E5 Energi Arena SOL
DESCRIPTION:http://eventellus.com/event.asp?intActivityId=329676&intActivityTimeId=656429&from=icalone
UID:656429_activitytime@eventellus.com
TRANSP:OPAQUE
END:VEVENT


END:VCALENDAR
