

BEGIN:VCALENDAR
PRODID:-//snudd.se// event //EN
VERSION:2.0
lika<br>
    
BEGIN:VEVENT

DTSTART:20200720T180000Z
DTEND:20200720T194500Z
SUMMARY;ENCODING=QUOTED-PRINTABLE:GAIS - Athletic Eskilstuna
URL:http://eventellus.com/event.asp?intActivityId=329681&intActivityTimeId=656434&from=icalone
LOCATION;ENCODING=QUOTED-PRINTABLE:Sweden->G=F6teborg->Gamla Ullevi
DESCRIPTION:http://eventellus.com/event.asp?intActivityId=329681&intActivityTimeId=656434&from=icalone
UID:656434_activitytime@eventellus.com
TRANSP:OPAQUE
END:VEVENT


END:VCALENDAR
