

BEGIN:VCALENDAR
PRODID:-//snudd.se// event //EN
VERSION:2.0
lika<br>
    
BEGIN:VEVENT

DTSTART:20200802T000000Z
DTEND:20200802T014500Z
SUMMARY;ENCODING=QUOTED-PRINTABLE:Athletic Eskilstuna - Akropolis IF
URL:http://eventellus.com/event.asp?intActivityId=329695&intActivityTimeId=656448&from=icalone
LOCATION;ENCODING=QUOTED-PRINTABLE:Sweden->Eskilstuna->Tunavallen
DESCRIPTION:http://eventellus.com/event.asp?intActivityId=329695&intActivityTimeId=656448&from=icalone
UID:656448_activitytime@eventellus.com
TRANSP:OPAQUE
END:VEVENT


END:VCALENDAR
