

BEGIN:VCALENDAR
PRODID:-//snudd.se// event //EN
VERSION:2.0
lika<br>
    
BEGIN:VEVENT

DTSTART:20200802T000000Z
DTEND:20200802T014500Z
SUMMARY;ENCODING=QUOTED-PRINTABLE:Trelleborgs FF - Degerfors IF
URL:http://eventellus.com/event.asp?intActivityId=329697&intActivityTimeId=656450&from=icalone
LOCATION;ENCODING=QUOTED-PRINTABLE:Sweden->Trelleborg A-plan->V=E5ngavallen
DESCRIPTION:http://eventellus.com/event.asp?intActivityId=329697&intActivityTimeId=656450&from=icalone
UID:656450_activitytime@eventellus.com
TRANSP:OPAQUE
END:VEVENT


END:VCALENDAR
