

BEGIN:VCALENDAR
PRODID:-//snudd.se// event //EN
VERSION:2.0
lika<br>
    
BEGIN:VEVENT

DTSTART:20200809T000000Z
DTEND:20200809T014500Z
SUMMARY;ENCODING=QUOTED-PRINTABLE:Ljungskile SK - Trelleborgs FF
URL:http://eventellus.com/event.asp?intActivityId=329701&intActivityTimeId=656454&from=icalone
LOCATION;ENCODING=QUOTED-PRINTABLE:Sweden->Uddevalla->Skarsj=F6vallen
DESCRIPTION:http://eventellus.com/event.asp?intActivityId=329701&intActivityTimeId=656454&from=icalone
UID:656454_activitytime@eventellus.com
TRANSP:OPAQUE
END:VEVENT


END:VCALENDAR
