

BEGIN:VCALENDAR
PRODID:-//snudd.se// event //EN
VERSION:2.0
lika<br>
    
BEGIN:VEVENT

DTSTART:20200923T000000Z
DTEND:20200923T014500Z
SUMMARY;ENCODING=QUOTED-PRINTABLE:Degerfors IF - Athletic Eskilstuna
URL:http://eventellus.com/event.asp?intActivityId=329754&intActivityTimeId=656507&from=icalone
LOCATION;ENCODING=QUOTED-PRINTABLE:Sweden->Degerfors->Stora Valla
DESCRIPTION:http://eventellus.com/event.asp?intActivityId=329754&intActivityTimeId=656507&from=icalone
UID:656507_activitytime@eventellus.com
TRANSP:OPAQUE
END:VEVENT


END:VCALENDAR
