

BEGIN:VCALENDAR
PRODID:-//snudd.se// event //EN
VERSION:2.0
lika<br>
    
BEGIN:VEVENT

DTSTART:20200927T000000Z
DTEND:20200927T014500Z
SUMMARY;ENCODING=QUOTED-PRINTABLE:=D6rgryte IS Fotboll - Ljungskile SK
URL:http://eventellus.com/event.asp?intActivityId=329762&intActivityTimeId=656515&from=icalone
LOCATION;ENCODING=QUOTED-PRINTABLE:Sweden->G=F6teborg->Gamla Ullevi
DESCRIPTION:http://eventellus.com/event.asp?intActivityId=329762&intActivityTimeId=656515&from=icalone
UID:656515_activitytime@eventellus.com
TRANSP:OPAQUE
END:VEVENT


END:VCALENDAR
