

BEGIN:VCALENDAR
PRODID:-//snudd.se// event //EN
VERSION:2.0
lika<br>
    
BEGIN:VEVENT

DTSTART:20201018T000000Z
DTEND:20201018T014500Z
SUMMARY;ENCODING=QUOTED-PRINTABLE:Norrby IF - V=E4ster=E5s SK FK
URL:http://eventellus.com/event.asp?intActivityId=329775&intActivityTimeId=656528&from=icalone
LOCATION;ENCODING=QUOTED-PRINTABLE:Sweden->Bor=E5s->Bor=E5s Arena
DESCRIPTION:http://eventellus.com/event.asp?intActivityId=329775&intActivityTimeId=656528&from=icalone
UID:656528_activitytime@eventellus.com
TRANSP:OPAQUE
END:VEVENT


END:VCALENDAR
