

BEGIN:VCALENDAR
PRODID:-//snudd.se// event //EN
VERSION:2.0
lika<br>
    
BEGIN:VEVENT

DTSTART:20201101T000000Z
DTEND:20201101T014500Z
SUMMARY;ENCODING=QUOTED-PRINTABLE:Ume=E5 FC - Ljungskile SK
URL:http://eventellus.com/event.asp?intActivityId=329793&intActivityTimeId=656546&from=icalone
LOCATION;ENCODING=QUOTED-PRINTABLE:Sweden->Ume=E5->Ume=E5 Energi Arena SOL
DESCRIPTION:http://eventellus.com/event.asp?intActivityId=329793&intActivityTimeId=656546&from=icalone
UID:656546_activitytime@eventellus.com
TRANSP:OPAQUE
END:VEVENT


END:VCALENDAR
