

BEGIN:VCALENDAR
PRODID:-//snudd.se// event //EN
VERSION:2.0
lika<br>
    
BEGIN:VEVENT

DTSTART:20201114T140000Z
DTEND:20201114T154500Z
SUMMARY;ENCODING=QUOTED-PRINTABLE:Mallbackens IF Sunne - Jitex M=F6lndal BK
URL:http://eventellus.com/event.asp?intActivityId=329824&intActivityTimeId=657323&from=icalone
LOCATION;ENCODING=QUOTED-PRINTABLE:Sweden->Strandvallen, Mallbacken
DESCRIPTION:http://eventellus.com/event.asp?intActivityId=329824&intActivityTimeId=657323&from=icalone
UID:657323_activitytime@eventellus.com
TRANSP:OPAQUE
END:VEVENT


END:VCALENDAR
