

BEGIN:VCALENDAR
PRODID:-//snudd.se// event //EN
VERSION:2.0
lika<br>
    
BEGIN:VEVENT

DTSTART:20201114T140000Z
DTEND:20201114T154500Z
SUMMARY;ENCODING=QUOTED-PRINTABLE:Hammarby - =C4lvsj=F6 AIK FF
URL:http://eventellus.com/event.asp?intActivityId=329826&intActivityTimeId=657321&from=icalone
LOCATION;ENCODING=QUOTED-PRINTABLE:Sweden->Stockholm->Hammarby IP 1
DESCRIPTION:http://eventellus.com/event.asp?intActivityId=329826&intActivityTimeId=657321&from=icalone
UID:657321_activitytime@eventellus.com
TRANSP:OPAQUE
END:VEVENT


END:VCALENDAR
