

BEGIN:VCALENDAR
PRODID:-//snudd.se// event //EN
VERSION:2.0
lika<br>
    
BEGIN:VEVENT

DTSTART:20201114T140000Z
DTEND:20201114T154500Z
SUMMARY;ENCODING=QUOTED-PRINTABLE:IFK Kalmar - Kvarnsvedens IK
URL:http://eventellus.com/event.asp?intActivityId=329829&intActivityTimeId=657322&from=icalone
LOCATION;ENCODING=QUOTED-PRINTABLE:Sweden->Kalmar->Gr=F6ndals IP
DESCRIPTION:http://eventellus.com/event.asp?intActivityId=329829&intActivityTimeId=657322&from=icalone
UID:657322_activitytime@eventellus.com
TRANSP:OPAQUE
END:VEVENT


END:VCALENDAR
