

BEGIN:VCALENDAR
PRODID:-//snudd.se// event //EN
VERSION:2.0
lika<br>
    
BEGIN:VEVENT

DTSTART:20200725T140000Z
DTEND:20200725T154500Z
SUMMARY;ENCODING=QUOTED-PRINTABLE:Mallbackens IF Sunne - Sandvikens IF
URL:http://eventellus.com/event.asp?intActivityId=329841&intActivityTimeId=657256&from=icalone
LOCATION;ENCODING=QUOTED-PRINTABLE:Sweden->Strandvallen, Mallbacken
DESCRIPTION:http://eventellus.com/event.asp?intActivityId=329841&intActivityTimeId=657256&from=icalone
UID:657256_activitytime@eventellus.com
TRANSP:OPAQUE
END:VEVENT


END:VCALENDAR
