

BEGIN:VCALENDAR
PRODID:-//snudd.se// event //EN
VERSION:2.0
lika<br>
    
BEGIN:VEVENT

DTSTART:20200801T130000Z
DTEND:20200801T144500Z
SUMMARY;ENCODING=QUOTED-PRINTABLE:IF Brommapojkarna - Jitex M=F6lndal BK
URL:http://eventellus.com/event.asp?intActivityId=329848&intActivityTimeId=657262&from=icalone
LOCATION;ENCODING=QUOTED-PRINTABLE:Sweden->Stockholm->Grimsta IP 1
DESCRIPTION:http://eventellus.com/event.asp?intActivityId=329848&intActivityTimeId=657262&from=icalone
UID:657262_activitytime@eventellus.com
TRANSP:OPAQUE
END:VEVENT


END:VCALENDAR
