

BEGIN:VCALENDAR
PRODID:-//snudd.se// event //EN
VERSION:2.0
lika<br>
    
BEGIN:VEVENT

DTSTART:20200919T120000Z
DTEND:20200919T134500Z
SUMMARY;ENCODING=QUOTED-PRINTABLE:AIK - IF Brommapojkarna
URL:http://eventellus.com/event.asp?intActivityId=329853&intActivityTimeId=657286&from=icalone
LOCATION;ENCODING=QUOTED-PRINTABLE:Sweden->Stockholm->Skytteholms IP 1
DESCRIPTION:http://eventellus.com/event.asp?intActivityId=329853&intActivityTimeId=657286&from=icalone
UID:657286_activitytime@eventellus.com
TRANSP:OPAQUE
END:VEVENT


END:VCALENDAR
