

BEGIN:VCALENDAR
PRODID:-//snudd.se// event //EN
VERSION:2.0
lika<br>
    
BEGIN:VEVENT

DTSTART:20200701T180000Z
DTEND:20200701T194500Z
SUMMARY;ENCODING=QUOTED-PRINTABLE:Bollstan=E4s SK - Hammarby
URL:http://eventellus.com/event.asp?intActivityId=329859&intActivityTimeId=657238&from=icalone
LOCATION;ENCODING=QUOTED-PRINTABLE:Sweden->Upplands V=E4sby ->Bollstan=E4s IP 1
DESCRIPTION:http://eventellus.com/event.asp?intActivityId=329859&intActivityTimeId=657238&from=icalone
UID:657238_activitytime@eventellus.com
TRANSP:OPAQUE
END:VEVENT


END:VCALENDAR
