

BEGIN:VCALENDAR
PRODID:-//snudd.se// event //EN
VERSION:2.0
lika<br>
    
BEGIN:VEVENT

DTSTART:20200701T180000Z
DTEND:20200701T194500Z
SUMMARY;ENCODING=QUOTED-PRINTABLE:IF Brommapojkarna - Kvarnsvedens IK
URL:http://eventellus.com/event.asp?intActivityId=329863&intActivityTimeId=657240&from=icalone
LOCATION;ENCODING=QUOTED-PRINTABLE:Sweden->Stockholm->Grimsta IP 1
DESCRIPTION:http://eventellus.com/event.asp?intActivityId=329863&intActivityTimeId=657240&from=icalone
UID:657240_activitytime@eventellus.com
TRANSP:OPAQUE
END:VEVENT


END:VCALENDAR
