

BEGIN:VCALENDAR
PRODID:-//snudd.se// event //EN
VERSION:2.0
lika<br>
    
BEGIN:VEVENT

DTSTART:20200614T140000Z
DTEND:20200614T154500Z
SUMMARY;ENCODING=QUOTED-PRINTABLE:IFK Kalmar - Lidk=F6pings FK
URL:http://eventellus.com/event.asp?intActivityId=329869&intActivityTimeId=657227&from=icalone
LOCATION;ENCODING=QUOTED-PRINTABLE:Sweden->Kalmar->Gr=F6ndals IP
DESCRIPTION:http://eventellus.com/event.asp?intActivityId=329869&intActivityTimeId=657227&from=icalone
UID:657227_activitytime@eventellus.com
TRANSP:OPAQUE
END:VEVENT


END:VCALENDAR
