

BEGIN:VCALENDAR
PRODID:-//snudd.se// event //EN
VERSION:2.0
lika<br>
    
BEGIN:VEVENT

DTSTART:20200705T150000Z
DTEND:20200705T164500Z
SUMMARY;ENCODING=QUOTED-PRINTABLE:IF Brommapojkarna - Mallbackens IF Sunne
URL:http://eventellus.com/event.asp?intActivityId=329891&intActivityTimeId=657243&from=icalone
LOCATION;ENCODING=QUOTED-PRINTABLE:Sweden->Stockholm->Grimsta IP 1
DESCRIPTION:http://eventellus.com/event.asp?intActivityId=329891&intActivityTimeId=657243&from=icalone
UID:657243_activitytime@eventellus.com
TRANSP:OPAQUE
END:VEVENT


END:VCALENDAR
