

BEGIN:VCALENDAR
PRODID:-//snudd.se// event //EN
VERSION:2.0
lika<br>
    
BEGIN:VEVENT

DTSTART:20200711T140000Z
DTEND:20200711T154500Z
SUMMARY;ENCODING=QUOTED-PRINTABLE:Kvarnsvedens IK - Jitex M=F6lndal BK
URL:http://eventellus.com/event.asp?intActivityId=329897&intActivityTimeId=656650&from=icalone
LOCATION;ENCODING=QUOTED-PRINTABLE:Sweden->Borl=E4nge->Ljungbergsplanen
DESCRIPTION:http://eventellus.com/event.asp?intActivityId=329897&intActivityTimeId=656650&from=icalone
UID:656650_activitytime@eventellus.com
TRANSP:OPAQUE
END:VEVENT


END:VCALENDAR
