

BEGIN:VCALENDAR
PRODID:-//snudd.se// event //EN
VERSION:2.0
lika<br>
    
BEGIN:VEVENT

DTSTART:20201108T120000Z
DTEND:20201108T134500Z
SUMMARY;ENCODING=QUOTED-PRINTABLE:Sandvikens IF - Sunnan=E5 SK
URL:http://eventellus.com/event.asp?intActivityId=329984&intActivityTimeId=657320&from=icalone
LOCATION;ENCODING=QUOTED-PRINTABLE:Sweden->Sandviken->Jernvallen 1 A-plan Konstgr=E4s
DESCRIPTION:http://eventellus.com/event.asp?intActivityId=329984&intActivityTimeId=657320&from=icalone
UID:657320_activitytime@eventellus.com
TRANSP:OPAQUE
END:VEVENT


END:VCALENDAR
