

BEGIN:VCALENDAR
PRODID:-//snudd.se// event //EN
VERSION:2.0
lika<br>
    
BEGIN:VEVENT

DTSTART:20200517T000000Z
DTEND:20200517T014500Z
SUMMARY;ENCODING=QUOTED-PRINTABLE:IFK =D6stersund - Sj=E4levads IK
URL:http://eventellus.com/event.asp?intActivityId=330026&intActivityTimeId=656776&from=icalone
LOCATION;ENCODING=QUOTED-PRINTABLE:Sweden->=D6stersund->J=E4mtkraft Arena
DESCRIPTION:http://eventellus.com/event.asp?intActivityId=330026&intActivityTimeId=656776&from=icalone
UID:656776_activitytime@eventellus.com
TRANSP:OPAQUE
END:VEVENT


END:VCALENDAR
