

BEGIN:VCALENDAR
PRODID:-//snudd.se// event //EN
VERSION:2.0
lika<br>
    
BEGIN:VEVENT

DTSTART:20200611T180000Z
DTEND:20200611T194500Z
SUMMARY;ENCODING=QUOTED-PRINTABLE:Ope IF - IFK =D6stersund
URL:http://eventellus.com/event.asp?intActivityId=330051&intActivityTimeId=656801&from=icalone
LOCATION;ENCODING=QUOTED-PRINTABLE:Sweden->=D6stersund->Torvallens IP
DESCRIPTION:http://eventellus.com/event.asp?intActivityId=330051&intActivityTimeId=656801&from=icalone
UID:656801_activitytime@eventellus.com
TRANSP:OPAQUE
END:VEVENT


END:VCALENDAR
